BEGIN:VCALENDAR
VERSION:2.0
PRODID:-//Eventin//Event Calendar//EN
CALSCALE:GREGORIAN
METHOD:PUBLISH
BEGIN:VEVENT
UID:efcdabae01dc7f878cc0586c648338cc@update-events.nl
SUMMARY:The Hague\, June 8\, 25-37 y.o.\, Pavlov (Spui) – Special Edition
 : Runners\, Cyclists\, and other Sportive Hearts
DESCRIPTION:Delete your dating apps and meet people offline in the most fun
  way! \nWe open a can of freshly showered people\, mix them\, and shake th
 em up with:🎲🤸‍♀️Tabletop Arcade🤼 Group Challenges🧲 Connec
 ting questionsSocializing gets even better when you have a shared vibe. Thi
 s special edition is for anyone with a sportive heart. No personal records 
 or heart rate data required—if you love to move your body\, you’re enti
 rely qualified to join us \nNo awkward silences\nAmazing hosts will guide y
 ou through the evening and create that group spirit\, make you feel safe\, 
 and get you laughing (a lot!). You'll be having so much fun you won't even 
 notice how many people you are meeting\, in so many different ways.\nSocial
 izing gets even better when you have a shared vibe. This special edition is
  for anyone with a creative and cultural heart. No portfolios or artistic C
 Vs required—if you love culture and creativity\, you're entirely qualifie
 d to join us :)\nOur philosophy? Real connections happen when you:\n😏 Ha
 ndle unexpected situations together😎 Discover each other’s natural vib
 e in a group setting🗣️ Have deeper conversations naturally🎭 Drop th
 e masks and get playful\n \nIt's a Match!\nMet someone you like? We make i
 t easy. Just select your matches at the end of the night. If the interest i
 s mutual\, you’ll find each other’s details in your inbox the next morn
 ing.\n \nTimeline\n19:00 Official start & welcome\n19:10 Social Chaos (the
  fun kind!)\n20:00 Breather & Drinks\n20:15 More surprises\, more people\n2
 1:00 Is it already over? Don't be sad\, you can stick around! Maybe invite 
 one of your favourites for a drink? :)
LOCATION:Pavlov\, The Hague
DTSTAMP:20260423T105127Z
DTSTART:20260608T050000Z
DTEND:20260608T070000Z
END:VEVENT
END:VCALENDAR
