BEGIN:VCALENDAR
VERSION:2.0
PRODID:-//Eventin//Event Calendar//EN
CALSCALE:GREGORIAN
METHOD:PUBLISH
BEGIN:VEVENT
UID:e2f467a75368acfeaa4a3b99edf0ea0b@update-events.nl
SUMMARY:The Hague\, September 14\, 25-37 y.o. \, Pavlov (Spui) – Special 
 Edition: Travelers\, Hikers & Outdoor Adventurers
DESCRIPTION:Delete your dating apps and meet people offline in the most fun
  way!\nWe gather a great crowd of freshly showered singles\, mix them up\, 
 and break the ice faster than the Titanic with:\n🎲 🤸‍♀️ Tableto
 p Arcades🤼 Group Challenges🧲 Connecting Questions\nMeet your tribeSoc
 ializing gets even better when you share the same vibe. Do you love to expl
 ore the world\, stay active\, and spend time in nature? Then this is your e
 vent! Dress as you like\; our bouncer will gladly let you in even if you ar
 en't wearing hiking boots and a waterproof jacket. 🙂\n(Small disclaimer:
  This is still an indoor UpDate event\, but we promise we’ll let you out 
 to touch some grass again after two hours of fun and meeting new people 
 😉)\n \nZero awkward silencesOur amazing hosts will guide you through th
 e evening\, create that group spirit\, make you feel safe\, and get you lau
 ghing (a lot!). You'll be having so much fun you won't even notice how many
  people you are meeting\, in so many different ways.\nOur philosophy?Real c
 onnections happen when you:😏 Handle unexpected situations together😎 D
 iscover each other’s natural vibe in a group setting🗣️ Have deeper c
 onversations naturally🎭 Drop the masks and get playful\nIt's a Match!Met
  someone you like? We make it easy. Just select your matches at the end of 
 the night. If the interest is mutual\, you’ll find each other’s details
  in your inbox the next morning.\nTimeline19:00 Official start & welcome19:
 10 Social Chaos (the fun kind!)20:00 Breather & Drinks20:15 More surprises\
 , more people21:00 Is it already over? Don't be sad\, you can stick around!
  We highly recommend inviting one of your favourites for a drink at the bar
 . 🍻
LOCATION:Pavlov\, The Hague
DTSTAMP:20260421T102800Z
DTSTART:20260914T050000Z
DTEND:20260914T070000Z
END:VEVENT
END:VCALENDAR
