BEGIN:VCALENDAR
VERSION:2.0
PRODID:-//Eventin//Event Calendar//EN
CALSCALE:GREGORIAN
METHOD:PUBLISH
BEGIN:VEVENT
UID:29f9b925fbacb0d9555efc3d83d5cf3a@update-events.nl
SUMMARY:Utrecht\, August 3\,  32-45 y.o. \, The 5th (Neude)– Special Edit
 ion:  Creatives\, Culture\, and Concert Lovers
DESCRIPTION:Delete your dating apps and meet people offline in the most fun
  way! \nWe open a can of freshly showered people\, mix them\, and shake th
 em up with:🎲🤸‍♀️Tabletop Arcade🤼 Group Challenges🧲 Connec
 ting questions\nMeet your tribe\nSocializing gets even better when you have
  a shared vibe. Do you enjoy creating beautiful things\, visiting museums\,
  or using your Cineville pass? Then this event is for you! No portfolios or
  artistic CVs required—if you love culture and creativity\, you're entire
 ly qualified to join us :)No awkward silences\nAmazing hosts will guide you
  through the evening and create that group spirit\, make you feel safe\, an
 d get you laughing (a lot!). You'll be having so much fun you won't even no
 tice how many people you are meeting\, in so many different ways.\nOur phil
 osophy? Real connections happen when you:\n😏 Handle unexpected situation
 s together😎 Discover each other’s natural vibe in a group setting🗣
 ️ Have deeper conversations naturally🎭 Drop the masks and get playful\
 n \nIt's a Match!\nMet someone you like? We make it easy. Just select your
  matches at the end of the night. If the interest is mutual\, you’ll find
  each other’s details in your inbox the next morning.\n \nTimeline\n19:0
 0 Official start & welcome\n19:10 Social Chaos (the fun kind!)\n20:00 Breat
 her & Drinks\n20:15 More surprises\, more people\n21:00 Is it already over?
  Don't be sad\, you can stick around! Maybe invite one of your favourites f
 or a drink? :)
LOCATION:The 5th\, Neude\, Utrecht
DTSTAMP:20260423T123825Z
DTSTART:20260803T170000Z
DTEND:20260803T190000Z
END:VEVENT
END:VCALENDAR
