BEGIN:VCALENDAR
VERSION:2.0
PRODID:-//Eventin//Event Calendar//EN
CALSCALE:GREGORIAN
METHOD:PUBLISH
BEGIN:VEVENT
UID:844b4e3666c092ca70a9bb9a683661a7@update-events.nl
SUMMARY:🏃‍♀️‍➡️🚴🤸‍♀️Utrecht\, June 17\, 32-45 y.
 o. Jozef (Mariaplaats) | Runners\, Cyclists\, and other Sportive Hearts
DESCRIPTION:Delete your dating apps and meet people offline in the most fun
  way! \nWe open a can of freshly showered people\, mix them\, and shake th
 em up with:🎲🤸‍♀️Tabletop Arcade🤼 Group Challenges🧲 Connec
 ting questionsSocializing gets even better when you have a shared vibe. Thi
 s special edition is for anyone with a sportive heart. No personal records 
 or heart rate data required—if you love to move your body\, you’re enti
 rely qualified to join us \nNo awkward silences\nAmazing hosts will guide y
 ou through the evening and create that group spirit\, make you feel safe\, 
 and get you laughing (a lot!). You'll be having so much fun you won't even 
 notice how many people you are meeting\, in so many different ways.\nOur ph
 ilosophy? Real connections happen when you:\n😏 Handle unexpected situati
 ons together😎 Discover each other’s natural vibe in a group setting
 🗣️ Have deeper conversations naturally🎭 Drop the masks and get play
 ful\nFully backed up by research in psychology and social dynamics - ask yo
 ur host if you want to get nerdy about the science🤓\nIt's a Match!\nMet 
 someone you like? We make it easy. Just select your matches at the end of t
 he night. If the interest is mutual\, you’ll find each other’s details 
 in your inbox the next morning.Bonus friends: Our UpDaters come for a date\
 , but often vibe so well that they accidentally end up making new friends\,
  too. We are the only dating event in the world that includes a seamless bo
 nus step for friendship matching. No obligations\, just a fun extra that ge
 ts added to your match email.\n \nTimeline\n19:00 Official start & welcome
 \n19:10 Social Chaos (the fun kind!)\n20:00 Breather & Drinks\n20:15 More s
 urprises\, more people\n21:00 Is it already over? Don't be sad! To encourag
 e you to stick around\, the first drink after the event is on us! 🍻 A pe
 rfect excuse to invite one of your favourites to the bar. :)
LOCATION:Utrecht\, Jozef\, Mariaplaats
DTSTAMP:20260425T135241Z
DTSTART:20260617T170000Z
DTEND:20260617T190000Z
END:VEVENT
END:VCALENDAR
