BEGIN:VCALENDAR
VERSION:2.0
PRODID:-//Eventin//Event Calendar//EN
CALSCALE:GREGORIAN
METHOD:PUBLISH
BEGIN:VEVENT
UID:9786475ef4d3ac7f30adf90abc350821@update-events.nl
SUMMARY:🎨🎭🎵 Utrecht\, July 10\, 25-37 y.o. Jozef (Mariaplaats) | C
 reatives\, Culture & Concert Lovers
DESCRIPTION:Delete your dating apps and meet people offline in the most fun
  way! \nWe open a can of freshly showered people\, mix them\, and shake th
 em up with:🎲🤸‍♀️Tabletop Arcade🤼 Group Challenges🧲 Connec
 ting questionsSocializing gets even better when you have a shared vibe. Do 
 you enjoy creating beautiful things\, visiting museums\, or using your Cine
 ville pass? Then this event is for you! No portfolios or artistic CVs requi
 red—if you love culture and creativity\, you're entirely qualified to joi
 n us :)\nNo awkward silences\nAmazing hosts will guide you through the even
 ing and create that group spirit\, make you feel safe\, and get you laughin
 g (a lot!). You'll be having so much fun you won't even notice how many peo
 ple you are meeting\, in so many different ways.\nOur philosophy? Real conn
 ections happen when you:\n😏 Handle unexpected situations together😎 Di
 scover each other’s natural vibe in a group setting🗣️ Have deeper co
 nversations naturally🎭 Drop the masks and get playful\nFully backed up b
 y research in psychology and social dynamics - ask your host if you want to
  get nerdy about the science🤓\nIt's a Match!\nMet someone you like? We m
 ake it easy. Just select your matches at the end of the night. If the inter
 est is mutual\, you’ll find each other’s details in your inbox the next
  morning.Bonus friends: Our UpDaters come for a date\, but often vibe so we
 ll that they accidentally end up making new friends\, too. We are the only 
 dating event in the world that includes a seamless bonus step for friendshi
 p matching. No obligations\, just a fun extra that gets added to your match
  email.\n \nTimeline\n19:00 Official start & welcome\n19:10 Social Chaos (
 the fun kind!)\n20:00 Breather & Drinks\n20:15 More surprises\, more people
 \n21:00 Is it already over? Don't be sad! To encourage you to stick around\
 , the first drink after the event is on us! 🍻 A perfect excuse to invite
  one of your favourites to the bar. :)
LOCATION:Utrecht\, Jozef\, Mariaplaats
DTSTAMP:20260425T135200Z
DTSTART:20260715T170000Z
DTEND:20260715T190000Z
END:VEVENT
END:VCALENDAR
