BEGIN:VCALENDAR
VERSION:2.0
PRODID:-//Eventin//Event Calendar//EN
CALSCALE:GREGORIAN
METHOD:PUBLISH
BEGIN:VEVENT
UID:2d4b56b0d42fbd0e492fb5db5747d4a2@update-events.nl
SUMMARY:Utrecht\, August 3\,  40 - 57  y.o. \, The 5th (Neude) Classic Fun 
 At First Sight edition!
DESCRIPTION:Delete your dating apps and meet people offline in the most fun
  way! \nWe open a can of freshly showered people\, mix them\, and shake th
 em up with:🎲🤸‍♀️Tabletop Arcade🤼 Group Challenges🧲 Connec
 ting questionsNo awkward silences\nAmazing hosts will guide you through the
  evening and create that group spirit\, make you feel safe\, and get you la
 ughing (a lot!). You'll be having so much fun you won't even notice how man
 y people you are meeting\, in so many different ways.\nOur philosophy? Real
  connections happen when you:\n😏 Handle unexpected situations together
 😎 Discover each other’s natural vibe in a group setting🗣️ Have de
 eper conversations naturally🎭 Drop the masks and get playful\nFully back
 ed up by research in psychology and social dynamics - ask your host if you 
 want to get nerdy about the science🤓\nIt's a Match!\nMet someone you lik
 e? We make it easy. Just select your matches at the end of the night. If th
 e interest is mutual\, you’ll find each other’s details in your inbox t
 he next morning.Bonus friends: Our UpDaters come for a date\, but often vib
 e so well that they accidentally end up making new friends\, too. We are th
 e only dating event in the world that includes a seamless bonus step for fr
 iendship matching. No obligations\, just a fun extra that gets added to you
 r match email.\n \nTimeline\n19:00 Official start & welcome\n19:10 Social 
 Chaos (the fun kind!)\n20:00 Breather & Drinks\n20:15 More surprises\, more
  people\n21:00 Is it already over? Don't be sad\, you can stick around! May
 be invite one of your favourites for a drink? :)
LOCATION:The 5th\, Neude\, Utrecht
DTSTAMP:20260425T135358Z
DTSTART:20260803T170000Z
DTEND:20260803T190000Z
END:VEVENT
END:VCALENDAR
