BEGIN:VCALENDAR
VERSION:2.0
PRODID:-//Eventin//Event Calendar//EN
CALSCALE:GREGORIAN
METHOD:PUBLISH
BEGIN:VEVENT
UID:8845cad7056fd444ff71ba93369bbf9d@update-events.nl
SUMMARY:The Hague\, June 1\, 32-45 y.o. \, Pavlov (Spui) – Special Editio
 n:  Creatives\, Culture\, and Concert Lovers
DESCRIPTION:Delete your dating apps and meet people offline in the most fun
  way! \nWe open a can of freshly showered people\, mix them\, and shake th
 em up with:🎲🤸‍♀️Tabletop Arcade🤼 Group Challenges🧲 Connec
 ting questionsNo awkward silences\nAmazing hosts will guide you through the
  evening and create that group spirit\, make you feel safe\, and get you la
 ughing (a lot!). You'll be having so much fun you won't even notice how man
 y people you are meeting\, in so many different ways.\nSocializing gets eve
 n better when you have a shared vibe. This special edition is for anyone wi
 th a creative and cultural heart. No portfolios or artistic CVs required—
 if you love culture and creativity\, you're entirely qualified to join us :
 )\nOur philosophy? Real connections happen when you:\n😏 Handle unexpecte
 d situations together😎 Discover each other’s natural vibe in a group s
 etting🗣️ Have deeper conversations naturally🎭 Drop the masks and ge
 t playful\n \nIt's a Match!\nMet someone you like? We make it easy. Just s
 elect your matches at the end of the night. If the interest is mutual\, you
 ’ll find each other’s details in your inbox the next morning.\n \nTime
 line\n19:00 Official start & welcome\n19:10 Social Chaos (the fun kind!)\n2
 0:00 Breather & Drinks\n20:15 More surprises\, more people\n21:00 Is it alr
 eady over? Don't be sad\, you can stick around! Maybe invite one of your fa
 vourites for a drink? :)
LOCATION:Pavlov\, The Hague
DTSTAMP:20260421T124108Z
DTSTART:20260601T050000Z
DTEND:20260601T070000Z
END:VEVENT
END:VCALENDAR