BEGIN:VCALENDAR
VERSION:2.0
PRODID:-//Eventin//Event Calendar//EN
CALSCALE:GREGORIAN
METHOD:PUBLISH
BEGIN:VEVENT
UID:0fd1f69c85ff47f506328887a8f45f2f@update-events.nl
SUMMARY:The Hague\, July 20\, 32-45 y.o. \, Pavlov (Spui) – Special Editi
 on:  World Changers\, Impact Makers\, and Ambitious Minds
DESCRIPTION:Delete your dating apps and meet people offline in the most fun
  way!\nWe gather a great crowd of freshly showered singles\, mix them up\, 
 and break the ice faster than the Titanic with:\n🎲 🤸‍♀️ Tableto
 p Arcades🤼 Group Challenges🧲 Connecting Questions\nMeet your tribeSoc
 ializing gets even better when you share the same vibe. This Special Editio
 n is for anyone with a strong drive in life. Whether you are climbing the c
 orporate ladder\, striving to be the world's #1 civil servant\, running an 
 NGO\, or building your own startup: this event is for you!(Small disclaimer
 : This is still an UpDate event\, so don't get mad if you go home and reali
 ze you haven't talked about your work all night😉)\nZero awkward silences
 Our amazing hosts will guide you through the evening\, create that group sp
 irit\, make you feel safe\, and get you laughing (a lot!). You'll be having
  so much fun you won't even notice how many people you are meeting\, in so 
 many different ways.\nOur philosophy?Real connections happen when you:😏 
 Handle unexpected situations together😎 Discover each other’s natural v
 ibe in a group setting🗣️ Have deeper conversations naturally🎭 Drop 
 the masks and get playful\nIt's a Match!Met someone you like? We make it ea
 sy. Just select your matches at the end of the night. If the interest is mu
 tual\, you’ll find each other’s details in your inbox the next morning.
 \nTimeline19:00 Official start & welcome19:10 Social Chaos (the fun kind!)2
 0:00 Breather & Drinks20:15 More surprises\, more people21:00 Is it already
  over? Don't be sad\, you can stick around! We highly recommend inviting on
 e of your favourites for a drink at the bar. 🍻
LOCATION:Pavlov\, The Hague
DTSTAMP:20260423T103259Z
DTSTART:20260601T050000Z
DTEND:20260601T070000Z
END:VEVENT
END:VCALENDAR