BEGIN:VCALENDAR
VERSION:2.0
PRODID:-//Eventin//Event Calendar//EN
CALSCALE:GREGORIAN
METHOD:PUBLISH
BEGIN:VEVENT
UID:ee3b09afe92afea4b99480e69b532292@update-events.nl
SUMMARY:The Hague\, September 7\, 32-45 y.o. \, Pavlov (Spui) – Special E
 dition:  Foodies\, Wine Lovers & Culinary Explorers
DESCRIPTION:Delete your dating apps and meet people offline in the most fun
  way!\nWe gather a great crowd of freshly showered singles\, mix them up\, 
 and break the ice faster than the Titanic with:\n🎲 🤸‍♀️ Tableto
 p Arcades🤼 Group Challenges🧲 Connecting Questions\nMeet your tribeSoc
 ializing gets even better when you share the same vibe. Do you love discove
 ring new restaurants\, pairing good food with great wine\, or spending your
  Sundays cooking for friends? Then this is your event! Dress as you like\; 
 our bouncer will gladly let you in even if you aren't bribing him with a bo
 ttle of vintage wine 🙂\n(Small disclaimer: This is still an UpDate event
 \, so don't get mad if we only fill your belly with fits of laughter :))\n
  \n \nZero awkward silencesOur amazing hosts will guide you through the e
 vening\, create that group spirit\, make you feel safe\, and get you laughi
 ng (a lot!). You'll be having so much fun you won't even notice how many pe
 ople you are meeting\, in so many different ways.\nOur philosophy?Real conn
 ections happen when you:😏 Handle unexpected situations together😎 Disc
 over each other’s natural vibe in a group setting🗣️ Have deeper conv
 ersations naturally🎭 Drop the masks and get playful\nIt's a Match!Met so
 meone you like? We make it easy. Just select your matches at the end of the
  night. If the interest is mutual\, you’ll find each other’s details in
  your inbox the next morning.\nTimeline19:00 Official start & welcome19:10 
 Social Chaos (the fun kind!)20:00 Breather & Drinks20:15 More surprises\, m
 ore people21:00 Is it already over? Don't be sad\, you can stick around! We
  highly recommend inviting one of your favourites for a drink at the bar. 
 🍻
LOCATION:Pavlov\, The Hague
DTSTAMP:20260421T113049Z
DTSTART:20260907T170000Z
DTEND:20260907T190000Z
END:VEVENT
END:VCALENDAR